BEGIN:VCALENDAR
VERSION:2.0
PRODID:-//LivingCode Studios - ECPv6.15.20//NONSGML v1.0//EN
CALSCALE:GREGORIAN
METHOD:PUBLISH
X-ORIGINAL-URL:https://bander.profreed.com
X-WR-CALDESC:Events for LivingCode Studios
REFRESH-INTERVAL;VALUE=DURATION:PT1H
X-Robots-Tag:noindex
X-PUBLISHED-TTL:PT1H
BEGIN:VTIMEZONE
TZID:America/Los_Angeles
BEGIN:DAYLIGHT
TZOFFSETFROM:-0800
TZOFFSETTO:-0700
TZNAME:PDT
DTSTART:20250309T100000
END:DAYLIGHT
BEGIN:STANDARD
TZOFFSETFROM:-0700
TZOFFSETTO:-0800
TZNAME:PST
DTSTART:20251102T090000
END:STANDARD
BEGIN:DAYLIGHT
TZOFFSETFROM:-0800
TZOFFSETTO:-0700
TZNAME:PDT
DTSTART:20260308T100000
END:DAYLIGHT
BEGIN:STANDARD
TZOFFSETFROM:-0700
TZOFFSETTO:-0800
TZNAME:PST
DTSTART:20261101T090000
END:STANDARD
BEGIN:DAYLIGHT
TZOFFSETFROM:-0800
TZOFFSETTO:-0700
TZNAME:PDT
DTSTART:20270314T100000
END:DAYLIGHT
BEGIN:STANDARD
TZOFFSETFROM:-0700
TZOFFSETTO:-0800
TZNAME:PST
DTSTART:20271107T090000
END:STANDARD
END:VTIMEZONE
BEGIN:VEVENT
DTSTART;TZID=America/Los_Angeles:20260624T093000
DTEND;TZID=America/Los_Angeles:20260624T163000
DTSTAMP:20260423T013148
CREATED:20260420T042749Z
LAST-MODIFIED:20260420T042832Z
UID:135-1782293400-1782318600@bander.profreed.com
SUMMARY:New Product Launch: AI Gaming Apparel Drop
DESCRIPTION:LivingCode Studios is launching its first line of AI-inspired gaming apparel. Explore our latest hoodies\, t-shirts\, and accessories designed for developers and gamers. Visit our online store to check out new arrivals and exclusive designs.
URL:https://bander.profreed.com/event/new-product-launch-ai-gaming-apparel-drop/
END:VEVENT
END:VCALENDAR