BEGIN:VCALENDAR
VERSION:2.0
PRODID:-//LivingCode Studios - ECPv6.15.20//NONSGML v1.0//EN
CALSCALE:GREGORIAN
METHOD:PUBLISH
X-ORIGINAL-URL:https://bander.profreed.com
X-WR-CALDESC:Events for LivingCode Studios
REFRESH-INTERVAL;VALUE=DURATION:PT1H
X-Robots-Tag:noindex
X-PUBLISHED-TTL:PT1H
BEGIN:VTIMEZONE
TZID:America/Los_Angeles
BEGIN:DAYLIGHT
TZOFFSETFROM:-0800
TZOFFSETTO:-0700
TZNAME:PDT
DTSTART:20250309T100000
END:DAYLIGHT
BEGIN:STANDARD
TZOFFSETFROM:-0700
TZOFFSETTO:-0800
TZNAME:PST
DTSTART:20251102T090000
END:STANDARD
BEGIN:DAYLIGHT
TZOFFSETFROM:-0800
TZOFFSETTO:-0700
TZNAME:PDT
DTSTART:20260308T100000
END:DAYLIGHT
BEGIN:STANDARD
TZOFFSETFROM:-0700
TZOFFSETTO:-0800
TZNAME:PST
DTSTART:20261101T090000
END:STANDARD
BEGIN:DAYLIGHT
TZOFFSETFROM:-0800
TZOFFSETTO:-0700
TZNAME:PDT
DTSTART:20270314T100000
END:DAYLIGHT
BEGIN:STANDARD
TZOFFSETFROM:-0700
TZOFFSETTO:-0800
TZNAME:PST
DTSTART:20271107T090000
END:STANDARD
END:VTIMEZONE
BEGIN:VEVENT
DTSTART;TZID=America/Los_Angeles:20261119T000000
DTEND;TZID=America/Los_Angeles:20261119T235959
DTSTAMP:20260423T152756
CREATED:20260420T042928Z
LAST-MODIFIED:20260420T042949Z
UID:138-1795046400-1795132799@bander.profreed.com
SUMMARY:Gaming for Good Charity Event
DESCRIPTION:Join LivingCode Studios for our “Gaming for Good” charity event\, where gaming meets giving back. This live-streamed event will feature gameplay\, community challenges\, and interactive activities\, all aimed at raising funds for youth technology and coding programs. Participants can donate\, compete\, and support a great cause while experiencing the future of AI-powered gaming.
URL:https://bander.profreed.com/event/gaming-for-good-charity-event/
END:VEVENT
END:VCALENDAR